BEGIN:VCALENDAR
VERSION:2.0
PRODID:-//eventon.com NONSGML v1.0//EN
CALSCALE:GREGORIAN
METHOD:PUBLISH
BEGIN:VEVENT
UID:69e500fa83fb9
DTSTAMP:20260419T122114
DTSTART:20250415T200000Z
DTEND:20250415T220000Z
LOCATION:One Ford Place One Ford Place\,  Detroit\,  MI 48202
SUMMARY:Henry Ford Health South Campus Central Energy Hub
DESCRIPTION: Join us for an in-person subcontractor/supplier outreach and networking event to learn about the Henry Ford Health South Campus Central Energy Hub project\,  upcoming project opportunities and meet the Kiewit project team.
END:VEVENT
BEGIN:VEVENT
UID:69e500fa844dd
DTSTAMP:20260419T122114
DTSTART:20251114T210000Z
DTEND:20251115T020000Z
LOCATION:DTE Energy HQ 1 Energy Plaza
SUMMARY:VOBRT 20th Anniversary Gala
DESCRIPTION: Join the Veteran-Owned Business Roundtable (VOBRT) for a powerful evening celebrating 20 years of championing veteran entrepreneurship\,  supplier diversity\,  and community leadership across the nation. Taking place the weekend after Veterans Day\,  this historic event marks VOBRT&rsquo;s National awards gala&mdash;a night dedicated to recognizing the corporations\,  veteran-owned businesses\,  and community[..]
END:VEVENT
BEGIN:VEVENT
UID:69e500fa848a5
DTSTAMP:20260419T122114
DTSTART:20250611T213000Z
DTEND:20250612T003000Z
LOCATION: 
SUMMARY:Connect with VETS
DESCRIPTION: Sponsored in part by the Fifth Third Bank foundation\,  join the Veteran Owned Business Roundtable (VOBRT) for a one-of-a-kind networking event designed to connect veteran entrepreneurs\,  business leaders\,  and corporate partners. This exclusive evening is your opportunity to forge meaningful connections\,  exchange ideas\,  and discover new opportunities to grow your[..]
END:VEVENT
BEGIN:VEVENT
UID:69e500fa84cb8
DTSTAMP:20260419T122114
DTSTART:20250409T213000Z
DTEND:20250410T003000Z
LOCATION:Melting Pot 888 W Big Beaver Rd\, 
SUMMARY:Connect with VETS
DESCRIPTION: Join the Veteran Owned Business Roundtable (VOBRT) for a one-of-a-kind networking event designed to connect veteran entrepreneurs\,  business leaders\,  and corporate partners. This exclusive evening is your opportunity to forge meaningful connections\,  exchange ideas\,  and discover new opportunities to grow your business. Why Attend? Meet and network with veteran-owned businesses[..]
END:VEVENT
BEGIN:VEVENT
UID:69e500fa850ff
DTSTAMP:20260419T122114
DTSTART:20250212T213000Z
DTEND:20250213T003000Z
LOCATION:Melting Pot 888 W Big Beaver Rd\, 
SUMMARY:Connect with VETS
DESCRIPTION: Join the Veteran Owned Business Roundtable (VOBRT) for a one-of-a-kind networking event designed to connect veteran entrepreneurs\,  business leaders\,  and corporate partners. This exclusive evening is your opportunity to forge meaningful connections\,  exchange ideas\,  and discover new opportunities to grow your business. Why Attend? Meet and network with veteran-owned businesses[..]
END:VEVENT
BEGIN:VEVENT
UID:69e500fa85544
DTSTAMP:20260419T122114
DTSTART:20250818T113000Z
DTEND:20250818T200000Z
LOCATION:Grosse Ile Golf & Country Club 9339 Bellevue Rd\,  Grosse Ile Township\,  MI 48138
SUMMARY:12th Annual Veteran Scholarship Golf Outing
END:VEVENT
BEGIN:VEVENT
UID:69e500fa85909
DTSTAMP:20260419T122114
DTSTART:20241125T170000Z
DTEND:20241125T180000Z
LOCATION: 
SUMMARY:The Entrepreneurial Equation for Veterans
DESCRIPTION: Webinar Overview As veteran business owners we have a unique set of benefits provided by the federal government. I will lightly go over a few of these benefits to show they are there. Preparation for retirement is one of the most important and overlooked aspects of saving. In this session[..]
END:VEVENT
BEGIN:VEVENT
UID:69e500fa85c1f
DTSTAMP:20260419T122114
DTSTART:20241205T130000Z
DTEND:20241205T153000Z
LOCATION:Veteran Owned Business Roundtable 7205 Sterling Ponds Ct.\,  Sterling Heights\,  Michigan 48312
SUMMARY:Chairman&#8217;s Board of Directors Meeting
END:VEVENT
BEGIN:VEVENT
UID:69e500fa85f84
DTSTAMP:20260419T122114
DTSTART:20210317T120000Z
DTEND:20210317T143000Z
LOCATION:Veteran Owned Business Roundtable 7205 Sterling Ponds Ct.\,  Sterling Heights\,  Michigan 48312
SUMMARY:Board of Directors Meeting
END:VEVENT
END:VCALENDAR